{
 "currentVersion": 10.71,
 "serviceDescription": "",
 "mapName": "Layers",
 "description": "",
 "copyrightText": "",
 "supportsDynamicLayers": true,
 "layers": [
  {
   "id": 0,
   "name": "Parcels_Otsego",
   "parentLayerId": -1,
   "defaultVisibility": true,
   "subLayerIds": null,
   "minScale": 83999,
   "maxScale": 0,
   "type": "Feature Layer",
   "geometryType": "esriGeometryPolygon"
  }
 ],
 "tables": [],
 "spatialReference": {
  "wkid": 102715,
  "latestWkid": 2260
 },
 "singleFusedMapCache": true,
 "tileInfo": {
  "rows": 256,
  "cols": 256,
  "dpi": 96,
  "format": "PNG8",
  "compressionQuality": 0,
  "origin": {
   "x": -17954600,
   "y": 1.8705699999999993E7
  },
  "spatialReference": {
   "wkid": 102715,
   "latestWkid": 2260
  },
  "lods": [
   {
    "level": 0,
    "resolution": 375,
    "scale": 432000
   },
   {
    "level": 1,
    "resolution": 312.5,
    "scale": 360000
   },
   {
    "level": 2,
    "resolution": 208.33333333333331,
    "scale": 240000
   },
   {
    "level": 3,
    "resolution": 104.16666666666666,
    "scale": 120000
   },
   {
    "level": 4,
    "resolution": 72.91666666666666,
    "scale": 84000
   },
   {
    "level": 5,
    "resolution": 62.5,
    "scale": 72000
   },
   {
    "level": 6,
    "resolution": 52.08333333333333,
    "scale": 60000
   },
   {
    "level": 7,
    "resolution": 31.25,
    "scale": 36000
   },
   {
    "level": 8,
    "resolution": 20.833333333333332,
    "scale": 24000
   },
   {
    "level": 9,
    "resolution": 15.625,
    "scale": 18000
   },
   {
    "level": 10,
    "resolution": 10.416666666666666,
    "scale": 12000
   },
   {
    "level": 11,
    "resolution": 8.333333333333332,
    "scale": 9600
   },
   {
    "level": 12,
    "resolution": 4.166666666666666,
    "scale": 4800
   },
   {
    "level": 13,
    "resolution": 2.083333333333333,
    "scale": 2400
   },
   {
    "level": 14,
    "resolution": 1.5625,
    "scale": 1800
   },
   {
    "level": 15,
    "resolution": 1.0416666666666665,
    "scale": 1200
   },
   {
    "level": 16,
    "resolution": 0.78125,
    "scale": 900
   },
   {
    "level": 17,
    "resolution": 0.5208333333333333,
    "scale": 600
   }
  ]
 },
 "initialExtent": {
  "xmin": 315887.42842227774,
  "ymin": 1417415.540220559,
  "xmax": 338578.4006445,
  "ymax": 1427745.4013316701,
  "spatialReference": {
   "wkid": 102715,
   "latestWkid": 2260
  }
 },
 "fullExtent": {
  "xmin": 244626.15659299865,
  "ymin": 1269544.4122480825,
  "xmax": 456894.91151658073,
  "ymax": 1485127.8803584948,
  "spatialReference": {
   "wkid": 102715,
   "latestWkid": 2260
  }
 },
 "minScale": 432000,
 "maxScale": 600,
 "minLOD": 0,
 "maxLOD": 17,
 "units": "esriFeet",
 "supportedImageFormatTypes": "PNG32,PNG24,PNG,JPG,DIB,TIFF,EMF,PS,PDF,GIF,SVG,SVGZ,BMP",
 "documentInfo": {
  "Title": "",
  "Author": "",
  "Comments": "",
  "Subject": "",
  "Category": "",
  "AntialiasingMode": "Normal",
  "TextAntialiasingMode": "Force",
  "Keywords": ""
 },
 "capabilities": "Map,Query,Data",
 "supportedQueryFormats": "JSON, geoJSON",
 "exportTilesAllowed": false,
 "supportsDatumTransformation": true,
 "maxRecordCount": 1000,
 "maxImageHeight": 4096,
 "maxImageWidth": 4096,
 "supportedExtensions": ""
}
