{
 "currentVersion": 10.71,
 "serviceDescription": "",
 "mapName": "Layers",
 "description": "otsego parcels",
 "copyrightText": "",
 "supportsDynamicLayers": true,
 "layers": [
  {
   "id": 0,
   "name": "Centerline",
   "parentLayerId": -1,
   "defaultVisibility": true,
   "subLayerIds": null,
   "minScale": 84000,
   "maxScale": 0,
   "type": "Feature Layer",
   "geometryType": "esriGeometryPolyline"
  },
  {
   "id": 1,
   "name": "NY_MajorRoads_label",
   "parentLayerId": -1,
   "defaultVisibility": true,
   "subLayerIds": null,
   "minScale": 72000,
   "maxScale": 0,
   "type": "Feature Layer",
   "geometryType": "esriGeometryPolyline"
  },
  {
   "id": 2,
   "name": "NY_Highways_label",
   "parentLayerId": -1,
   "defaultVisibility": true,
   "subLayerIds": null,
   "minScale": 72000,
   "maxScale": 0,
   "type": "Feature Layer",
   "geometryType": "esriGeometryPolyline"
  },
  {
   "id": 3,
   "name": "SimplifiedStreetSegment",
   "parentLayerId": -1,
   "defaultVisibility": true,
   "subLayerIds": null,
   "minScale": 84000,
   "maxScale": 0,
   "type": "Feature Layer",
   "geometryType": "esriGeometryPolyline"
  },
  {
   "id": 4,
   "name": "County",
   "parentLayerId": -1,
   "defaultVisibility": true,
   "subLayerIds": null,
   "minScale": 0,
   "maxScale": 0,
   "type": "Feature Layer",
   "geometryType": "esriGeometryPolygon"
  },
  {
   "id": 5,
   "name": "Parcel Arcs",
   "parentLayerId": -1,
   "defaultVisibility": true,
   "subLayerIds": null,
   "minScale": 83000,
   "maxScale": 0,
   "type": "Feature Layer",
   "geometryType": "esriGeometryPolyline"
  },
  {
   "id": 6,
   "name": "Ots_Municipal_2",
   "parentLayerId": -1,
   "defaultVisibility": true,
   "subLayerIds": null,
   "minScale": 0,
   "maxScale": 0,
   "type": "Feature Layer",
   "geometryType": "esriGeometryPolygon"
  },
  {
   "id": 7,
   "name": "Building Footprints",
   "parentLayerId": -1,
   "defaultVisibility": true,
   "subLayerIds": null,
   "minScale": 50000,
   "maxScale": 0,
   "type": "Feature Layer",
   "geometryType": "esriGeometryPolygon"
  },
  {
   "id": 8,
   "name": "> Buildings",
   "parentLayerId": -1,
   "defaultVisibility": true,
   "subLayerIds": [
    9,
    10,
    11
   ],
   "minScale": 72000,
   "maxScale": 0,
   "type": "Group Layer"
  },
  {
   "id": 9,
   "name": "Oneonta_SUNY_Unversity",
   "parentLayerId": 8,
   "defaultVisibility": false,
   "subLayerIds": null,
   "minScale": 0,
   "maxScale": 0,
   "type": "Feature Layer",
   "geometryType": "esriGeometryPolygon"
  },
  {
   "id": 10,
   "name": "Hartwick_College",
   "parentLayerId": 8,
   "defaultVisibility": false,
   "subLayerIds": null,
   "minScale": 0,
   "maxScale": 0,
   "type": "Feature Layer",
   "geometryType": "esriGeometryPolygon"
  },
  {
   "id": 11,
   "name": "city_bldgs",
   "parentLayerId": 8,
   "defaultVisibility": false,
   "subLayerIds": null,
   "minScale": 0,
   "maxScale": 0,
   "type": "Feature Layer",
   "geometryType": "esriGeometryPolygon"
  },
  {
   "id": 12,
   "name": "Hydro",
   "parentLayerId": -1,
   "defaultVisibility": true,
   "subLayerIds": [
    13,
    14,
    15
   ],
   "minScale": 72000,
   "maxScale": 0,
   "type": "Group Layer"
  },
  {
   "id": 13,
   "name": "Ots_Lakes",
   "parentLayerId": 12,
   "defaultVisibility": true,
   "subLayerIds": null,
   "minScale": 0,
   "maxScale": 0,
   "type": "Feature Layer",
   "geometryType": "esriGeometryPolygon"
  },
  {
   "id": 14,
   "name": "Ots_Streams",
   "parentLayerId": 12,
   "defaultVisibility": true,
   "subLayerIds": null,
   "minScale": 0,
   "maxScale": 0,
   "type": "Feature Layer",
   "geometryType": "esriGeometryPolyline"
  },
  {
   "id": 15,
   "name": "Ots_openwater",
   "parentLayerId": 12,
   "defaultVisibility": true,
   "subLayerIds": null,
   "minScale": 0,
   "maxScale": 0,
   "type": "Feature Layer",
   "geometryType": "esriGeometryPolygon"
  }
 ],
 "tables": [],
 "spatialReference": {
  "wkid": 102715,
  "latestWkid": 2260
 },
 "singleFusedMapCache": true,
 "tileInfo": {
  "rows": 256,
  "cols": 256,
  "dpi": 96,
  "format": "PNG8",
  "compressionQuality": 0,
  "origin": {
   "x": -17954600,
   "y": 1.8705699999999993E7
  },
  "spatialReference": {
   "wkid": 102715,
   "latestWkid": 2260
  },
  "lods": [
   {
    "level": 0,
    "resolution": 375,
    "scale": 432000
   },
   {
    "level": 1,
    "resolution": 312.5,
    "scale": 360000
   },
   {
    "level": 2,
    "resolution": 208.33333333333331,
    "scale": 240000
   },
   {
    "level": 3,
    "resolution": 104.16666666666666,
    "scale": 120000
   },
   {
    "level": 4,
    "resolution": 72.91666666666666,
    "scale": 84000
   },
   {
    "level": 5,
    "resolution": 62.5,
    "scale": 72000
   },
   {
    "level": 6,
    "resolution": 52.08333333333333,
    "scale": 60000
   },
   {
    "level": 7,
    "resolution": 31.25,
    "scale": 36000
   },
   {
    "level": 8,
    "resolution": 20.833333333333332,
    "scale": 24000
   },
   {
    "level": 9,
    "resolution": 15.625,
    "scale": 18000
   },
   {
    "level": 10,
    "resolution": 10.416666666666666,
    "scale": 12000
   },
   {
    "level": 11,
    "resolution": 8.333333333333332,
    "scale": 9600
   },
   {
    "level": 12,
    "resolution": 4.166666666666666,
    "scale": 4800
   },
   {
    "level": 13,
    "resolution": 2.083333333333333,
    "scale": 2400
   },
   {
    "level": 14,
    "resolution": 1.5625,
    "scale": 1800
   },
   {
    "level": 15,
    "resolution": 1.0416666666666665,
    "scale": 1200
   },
   {
    "level": 16,
    "resolution": 0.78125,
    "scale": 900
   },
   {
    "level": 17,
    "resolution": 0.5208333333333333,
    "scale": 600
   }
  ]
 },
 "initialExtent": {
  "xmin": 334726.60167293146,
  "ymin": 1326368.4523116078,
  "xmax": 348908.45931182033,
  "ymax": 1328712.2023116078,
  "spatialReference": {
   "wkid": 102715,
   "latestWkid": 2260
  }
 },
 "fullExtent": {
  "xmin": -938270.9116632529,
  "ymin": 598661.6779007465,
  "xmax": 1272903.421884749,
  "ymax": 2253004.4633686617,
  "spatialReference": {
   "wkid": 102715,
   "latestWkid": 2260
  }
 },
 "minScale": 432000,
 "maxScale": 600,
 "minLOD": 0,
 "maxLOD": 17,
 "units": "esriFeet",
 "supportedImageFormatTypes": "PNG32,PNG24,PNG,JPG,DIB,TIFF,EMF,PS,PDF,GIF,SVG,SVGZ,BMP",
 "documentInfo": {
  "Title": "Ots_Basemap_I",
  "Author": "Marwin",
  "Comments": "",
  "Subject": "",
  "Category": "",
  "AntialiasingMode": "Normal",
  "TextAntialiasingMode": "Force",
  "Keywords": ""
 },
 "capabilities": "Map,Query,Data",
 "supportedQueryFormats": "JSON, geoJSON",
 "exportTilesAllowed": false,
 "datumTransformations": [
  {
   "geoTransforms": [
    {
     "wkid": 108001,
     "latestWkid": 1241,
     "transformForward": true,
     "name": "NAD_1927_To_NAD_1983_NADCON"
    }
   ]
  },
  {
   "geoTransforms": [
    {
     "wkid": 108001,
     "latestWkid": 1241,
     "transformForward": false,
     "name": "NAD_1927_To_NAD_1983_NADCON"
    }
   ]
  }
 ],
 "supportsDatumTransformation": true,
 "maxRecordCount": 1000,
 "maxImageHeight": 4096,
 "maxImageWidth": 4096,
 "supportedExtensions": ""
}
